BEGIN:VCALENDAR
VERSION:2.0
PRODID:icalendar-ruby
CALSCALE:GREGORIAN
METHOD:PUBLISH
BEGIN:VEVENT
DTSTAMP:20260425T164243Z
UID:629-1471666@chicofaithlutheran.org
DTSTART:20261022T190000Z
DTEND:20261022T220000Z
CLASS:PUBLIC
CREATED:20260425T090819
DESCRIPTION:Each Thursday we have a light lunch a play a variety of board/c
 ard games like Hand and Foot\, Mexican Train\, and Canasta. Elise Gladu gr
 aciously hosts this game session every Thursday at the 1200 Park Avenue cl
 ubhouse. Suggested donated is $3 per week to cover the cost of food/drink
 s.
LAST-MODIFIED:20260425T090819
LOCATION:Room 6
SUMMARY:Afternoon Games
URL;VALUE=URI:https://www.chicofaithlutheran.org/events/afternoon-games/202
 6-10-22
ATTACH;FILENAME=Afternoon Games (2).png;FMTTYPE=image/png:https://dq5pwpg1q
 8ru0.cloudfront.net/2025/12/19/18/47/49/03ba25f0-df12-44b2-8826-9957b410e0
 8e/Afternoon%20Games%20(2).png
END:VEVENT
END:VCALENDAR
