BEGIN:VCALENDAR
VERSION:2.0
PRODID:icalendar-ruby
CALSCALE:GREGORIAN
METHOD:PUBLISH
BEGIN:VEVENT
DTSTAMP:20260419T204209Z
UID:688-1290782@chicofaithlutheran.org
DTSTART:20260426T180000Z
DTEND:20260426T190000Z
CLASS:PUBLIC
CREATED:20260331T135206
DESCRIPTION:If you may be interested in bringing Holy Communion to friends 
 who are not able to come to worship at Faith\, we invite you to learn more
  at this informative gathering on Sunday\, April 26. The term we use is "E
 ucharistic Minister." We will gather in the Chapel (office wing) following
  worship at 11:00 a.m. to talk about what this means\, what we do\, why we
  do it\, and how often we deliver Communion to the homebound. We hope you 
 will join with us on the 26th. If you have questions please contact Bill K
 ees or the office. If you are or have been a Eucharistic Minister\, your e
 xperience is appreciated and you're welcome to join us.
LAST-MODIFIED:20260331T135206
LOCATION:
SUMMARY:Eucharistic Ministry Informative Gathering
URL;VALUE=URI:https://www.chicofaithlutheran.org/events/eucharistic-ministr
 y-informative-gathering/2026-04-26
ATTACH;FILENAME=MISC (58).png;FMTTYPE=image/png:https://dq5pwpg1q8ru0.cloud
 front.net/2026/03/31/20/52/06/aef04fe9-9e06-454a-862a-61933bd92bfd/MISC%20
 (58).png
END:VEVENT
END:VCALENDAR
